BEGIN:VCALENDAR
VERSION:2.0
PRODID:-//DebateNyc - ECPv6.15.20//NONSGML v1.0//EN
CALSCALE:GREGORIAN
METHOD:PUBLISH
X-ORIGINAL-URL:https://debate.nyc
X-WR-CALDESC:Events for DebateNyc
REFRESH-INTERVAL;VALUE=DURATION:PT1H
X-Robots-Tag:noindex
X-PUBLISHED-TTL:PT1H
BEGIN:VTIMEZONE
TZID:UTC
BEGIN:STANDARD
TZOFFSETFROM:+0000
TZOFFSETTO:+0000
TZNAME:UTC
DTSTART:20250101T000000
END:STANDARD
END:VTIMEZONE
BEGIN:VEVENT
DTSTART;TZID=UTC:20260307T080000
DTEND;TZID=UTC:20260307T170000
DTSTAMP:20260421T153546
CREATED:20250911T143807Z
LAST-MODIFIED:20260310T004754Z
UID:10001845-1772870400-1772902800@debate.nyc
SUMMARY:Open League Tournament #5
DESCRIPTION:
URL:https://debate.nyc/event/open-league-tournament-4-copy/
LOCATION:Brooklyn Technical High School\, 29 Fort Greene Pl\, Brooklyn\, NY\, 11217\, United States
CATEGORIES:Tournaments
END:VEVENT
END:VCALENDAR