BEGIN:VCALENDAR
VERSION:2.0
PRODID:-//DebateNyc - ECPv6.15.20//NONSGML v1.0//EN
CALSCALE:GREGORIAN
METHOD:PUBLISH
X-ORIGINAL-URL:https://debate.nyc
X-WR-CALDESC:Events for DebateNyc
REFRESH-INTERVAL;VALUE=DURATION:PT1H
X-Robots-Tag:noindex
X-PUBLISHED-TTL:PT1H
BEGIN:VTIMEZONE
TZID:UTC
BEGIN:STANDARD
TZOFFSETFROM:+0000
TZOFFSETTO:+0000
TZNAME:UTC
DTSTART:20250101T000000
END:STANDARD
END:VTIMEZONE
BEGIN:VEVENT
DTSTART;TZID=UTC:20260110T080000
DTEND;TZID=UTC:20260110T164500
DTSTAMP:20260421T165427
CREATED:20250911T143632Z
LAST-MODIFIED:20260116T202459Z
UID:10001843-1768032000-1768063500@debate.nyc
SUMMARY:Open League Tournament #3
DESCRIPTION:
URL:https://debate.nyc/event/open-league-tournament-3/
LOCATION:Online\, Online
CATEGORIES:Tournaments
END:VEVENT
END:VCALENDAR