BEGIN:VCALENDAR
VERSION:2.0
PRODID:-//DebateNyc - ECPv6.15.20//NONSGML v1.0//EN
CALSCALE:GREGORIAN
METHOD:PUBLISH
X-WR-CALNAME:DebateNyc
X-ORIGINAL-URL:https://debate.nyc
X-WR-CALDESC:Events for DebateNyc
REFRESH-INTERVAL;VALUE=DURATION:PT1H
X-Robots-Tag:noindex
X-PUBLISHED-TTL:PT1H
BEGIN:VTIMEZONE
TZID:UTC
BEGIN:STANDARD
TZOFFSETFROM:+0000
TZOFFSETTO:+0000
TZNAME:UTC
DTSTART:20250101T000000
END:STANDARD
END:VTIMEZONE
BEGIN:VEVENT
DTSTART;TZID=UTC:20260502T083000
DTEND;TZID=UTC:20260502T160000
DTSTAMP:20260421T153039
CREATED:20250917T175044Z
LAST-MODIFIED:20260312T182942Z
UID:10001848-1777710600-1777737600@debate.nyc
SUMMARY:NYC Reads Tournament #3
DESCRIPTION:
URL:https://debate.nyc/event/nyc-reads-tournament-3/
LOCATION:Brooklyn Technical High School\, 29 Fort Greene Pl\, Brooklyn\, NY\, 11217\, United States
END:VEVENT
END:VCALENDAR