BEGIN:VCALENDAR
VERSION:2.0
PRODID:-//DebateNyc - ECPv6.15.20//NONSGML v1.0//EN
CALSCALE:GREGORIAN
METHOD:PUBLISH
X-WR-CALNAME:DebateNyc
X-ORIGINAL-URL:https://debate.nyc
X-WR-CALDESC:Events for DebateNyc
REFRESH-INTERVAL;VALUE=DURATION:PT1H
X-Robots-Tag:noindex
X-PUBLISHED-TTL:PT1H
BEGIN:VTIMEZONE
TZID:UTC
BEGIN:STANDARD
TZOFFSETFROM:+0000
TZOFFSETTO:+0000
TZNAME:UTC
DTSTART:20250101T000000
END:STANDARD
END:VTIMEZONE
BEGIN:VEVENT
DTSTART;TZID=UTC:20260416T150000
DTEND;TZID=UTC:20260416T170000
DTSTAMP:20260421T141626
CREATED:20260327T155529Z
LAST-MODIFIED:20260327T155529Z
UID:10003432-1776351600-1776358800@debate.nyc
SUMMARY:High School Elective Virtual PL
DESCRIPTION:
URL:https://debate.nyc/event/high-school-elective-virtual-pl/
LOCATION:Online\, Online
END:VEVENT
END:VCALENDAR