BEGIN:VCALENDAR
VERSION:2.0
PRODID:-//DebateNyc - ECPv6.15.20//NONSGML v1.0//EN
CALSCALE:GREGORIAN
METHOD:PUBLISH
X-ORIGINAL-URL:https://debate.nyc
X-WR-CALDESC:Events for DebateNyc
REFRESH-INTERVAL;VALUE=DURATION:PT1H
X-Robots-Tag:noindex
X-PUBLISHED-TTL:PT1H
BEGIN:VTIMEZONE
TZID:UTC
BEGIN:STANDARD
TZOFFSETFROM:+0000
TZOFFSETTO:+0000
TZNAME:UTC
DTSTART:20250101T000000
END:STANDARD
END:VTIMEZONE
BEGIN:VEVENT
DTSTART;TZID=UTC:20260324T090000
DTEND;TZID=UTC:20260324T133000
DTSTAMP:20260421T153352
CREATED:20251029T171706Z
LAST-MODIFIED:20260324T131912Z
UID:10003259-1774342800-1774359000@debate.nyc
SUMMARY:D9 ES Tournament #2
DESCRIPTION:
URL:https://debate.nyc/event/d9-es-tournament-2/
LOCATION:Roberto Clemente State Park (Bronx)\, 301 W Tremont Ave\, Bronx\, NY\, 10453
END:VEVENT
BEGIN:VEVENT
DTSTART;TZID=UTC:20260324T153000
DTEND;TZID=UTC:20260324T163000
DTSTAMP:20260421T153352
CREATED:20260107T190852Z
LAST-MODIFIED:20260107T190852Z
UID:10003284-1774366200-1774369800@debate.nyc
SUMMARY:Districts PL
DESCRIPTION:
URL:https://debate.nyc/event/districts-pl-2/2026-03-24/
LOCATION:Online\, Online
END:VEVENT
BEGIN:VEVENT
DTSTART;TZID=UTC:20260324T163000
DTEND;TZID=UTC:20260324T173000
DTSTAMP:20260421T153352
CREATED:20260107T191223Z
LAST-MODIFIED:20260107T191328Z
UID:10003302-1774369800-1774373400@debate.nyc
SUMMARY:Multi-Language Learner PL
DESCRIPTION:
URL:https://debate.nyc/event/multi-language-learner-pl-4/2026-03-24/
LOCATION:Online\, Online
END:VEVENT
BEGIN:VEVENT
DTSTART;TZID=UTC:20260324T180000
DTEND;TZID=UTC:20260324T190000
DTSTAMP:20260421T153352
CREATED:20260107T223515Z
LAST-MODIFIED:20260107T223601Z
UID:10003316-1774375200-1774378800@debate.nyc
SUMMARY:Open League PL
DESCRIPTION:
URL:https://debate.nyc/event/open-league-pl-3/2026-03-24/
LOCATION:Online\, Online
END:VEVENT
BEGIN:VEVENT
DTSTART;TZID=UTC:20260324T180000
DTEND;TZID=UTC:20260324T190000
DTSTAMP:20260421T153352
CREATED:20260107T223953Z
LAST-MODIFIED:20260107T224023Z
UID:10003379-1774375200-1774378800@debate.nyc
SUMMARY:NYC Reads PL
DESCRIPTION:
URL:https://debate.nyc/event/nyc-reads-pl-3/2026-03-24/
LOCATION:Online\, Online
END:VEVENT
END:VCALENDAR