BEGIN:VCALENDAR
VERSION:2.0
PRODID:-//DebateNyc - ECPv6.15.20//NONSGML v1.0//EN
CALSCALE:GREGORIAN
METHOD:PUBLISH
X-WR-CALNAME:DebateNyc
X-ORIGINAL-URL:https://debate.nyc
X-WR-CALDESC:Events for DebateNyc
REFRESH-INTERVAL;VALUE=DURATION:PT1H
X-Robots-Tag:noindex
X-PUBLISHED-TTL:PT1H
BEGIN:VTIMEZONE
TZID:UTC
BEGIN:STANDARD
TZOFFSETFROM:+0000
TZOFFSETTO:+0000
TZNAME:UTC
DTSTART:20250101T000000
END:STANDARD
END:VTIMEZONE
BEGIN:VEVENT
DTSTART;TZID=UTC:20260303T090000
DTEND;TZID=UTC:20260303T133000
DTSTAMP:20260421T153149
CREATED:20251029T170009Z
LAST-MODIFIED:20260310T004741Z
UID:10003254-1772528400-1772544600@debate.nyc
SUMMARY:D8 MS Tournament #2
DESCRIPTION:
URL:https://debate.nyc/event/d8-ms-tournament-2/
LOCATION:MS 301\, 890 Cauldwell Ave\, New York City\, NY\, 10456\, United States
END:VEVENT
BEGIN:VEVENT
DTSTART;TZID=UTC:20260303T180000
DTEND;TZID=UTC:20260303T190000
DTSTAMP:20260421T153149
CREATED:20260107T223515Z
LAST-MODIFIED:20260107T223601Z
UID:10003313-1772560800-1772564400@debate.nyc
SUMMARY:Open League PL
DESCRIPTION:
URL:https://debate.nyc/event/open-league-pl-3/2026-03-03/
LOCATION:Online\, Online
END:VEVENT
BEGIN:VEVENT
DTSTART;TZID=UTC:20260303T180000
DTEND;TZID=UTC:20260303T190000
DTSTAMP:20260421T153149
CREATED:20260107T223953Z
LAST-MODIFIED:20260107T224023Z
UID:10003376-1772560800-1772564400@debate.nyc
SUMMARY:NYC Reads PL
DESCRIPTION:
URL:https://debate.nyc/event/nyc-reads-pl-3/2026-03-03/
LOCATION:Online\, Online
END:VEVENT
END:VCALENDAR