BEGIN:VCALENDAR
VERSION:2.0
PRODID:-//DebateNyc - ECPv6.15.20//NONSGML v1.0//EN
CALSCALE:GREGORIAN
METHOD:PUBLISH
X-ORIGINAL-URL:https://debate.nyc
X-WR-CALDESC:Events for DebateNyc
REFRESH-INTERVAL;VALUE=DURATION:PT1H
X-Robots-Tag:noindex
X-PUBLISHED-TTL:PT1H
BEGIN:VTIMEZONE
TZID:UTC
BEGIN:STANDARD
TZOFFSETFROM:+0000
TZOFFSETTO:+0000
TZNAME:UTC
DTSTART:20250101T000000
END:STANDARD
END:VTIMEZONE
BEGIN:VEVENT
DTSTART;TZID=UTC:20260204T090000
DTEND;TZID=UTC:20260204T150000
DTSTAMP:20260421T165607
CREATED:20260130T152519Z
LAST-MODIFIED:20260131T014448Z
UID:10003394-1770195600-1770217200@debate.nyc
SUMMARY:Cross Program Professional Learning
DESCRIPTION:
URL:https://debate.nyc/event/cross-program-professional-learning/
END:VEVENT
BEGIN:VEVENT
DTSTART;TZID=UTC:20260204T180000
DTEND;TZID=UTC:20260204T190000
DTSTAMP:20260421T165607
CREATED:20260129T202215Z
LAST-MODIFIED:20260129T202215Z
UID:10003388-1770228000-1770231600@debate.nyc
SUMMARY:Dream Team Practice
DESCRIPTION:
URL:https://debate.nyc/event/dream-team-practice-3/2026-02-04/
LOCATION:Online\, Online
END:VEVENT
END:VCALENDAR