BEGIN:VCALENDAR
VERSION:2.0
PRODID:-//DebateNyc - ECPv6.15.20//NONSGML v1.0//EN
CALSCALE:GREGORIAN
METHOD:PUBLISH
X-WR-CALNAME:DebateNyc
X-ORIGINAL-URL:https://debate.nyc
X-WR-CALDESC:Events for DebateNyc
REFRESH-INTERVAL;VALUE=DURATION:PT1H
X-Robots-Tag:noindex
X-PUBLISHED-TTL:PT1H
BEGIN:VTIMEZONE
TZID:UTC
BEGIN:STANDARD
TZOFFSETFROM:+0000
TZOFFSETTO:+0000
TZNAME:UTC
DTSTART:20250101T000000
END:STANDARD
END:VTIMEZONE
BEGIN:VEVENT
DTSTART;TZID=UTC:20260102T180000
DTEND;TZID=UTC:20260102T190000
DTSTAMP:20260421T182114
CREATED:20260108T184313Z
LAST-MODIFIED:20260108T184313Z
UID:10003385-1767376800-1767380400@debate.nyc
SUMMARY:In-Person Dream Team Practice
DESCRIPTION:
URL:https://debate.nyc/event/in-person-dream-team-practice/2026-01-02/
LOCATION:NYCUDL Office (Manhattan)\, 25 Broaway\, New York\, NY\, 10004\, United States
END:VEVENT
END:VCALENDAR