BEGIN:VCALENDAR
VERSION:2.0
PRODID:-//DebateNyc - ECPv6.15.20//NONSGML v1.0//EN
CALSCALE:GREGORIAN
METHOD:PUBLISH
X-ORIGINAL-URL:https://debate.nyc
X-WR-CALDESC:Events for DebateNyc
REFRESH-INTERVAL;VALUE=DURATION:PT1H
X-Robots-Tag:noindex
X-PUBLISHED-TTL:PT1H
BEGIN:VTIMEZONE
TZID:UTC
BEGIN:STANDARD
TZOFFSETFROM:+0000
TZOFFSETTO:+0000
TZNAME:UTC
DTSTART:20240101T000000
END:STANDARD
END:VTIMEZONE
BEGIN:VEVENT
DTSTART;TZID=UTC:20251106T143000
DTEND;TZID=UTC:20251106T170000
DTSTAMP:20260421T211726
CREATED:20251029T164311Z
LAST-MODIFIED:20251029T164311Z
UID:10003244-1762439400-1762448400@debate.nyc
SUMMARY:Adolescent Literacy Program Practice (Brooklyn)
DESCRIPTION:
URL:https://debate.nyc/event/adolescent-literacy-program-practice-brooklyn-2/2025-11-06/
LOCATION:MS 61\, 400 Empire Boulevard\, Brooklyn\, New York\, 11225
END:VEVENT
BEGIN:VEVENT
DTSTART;TZID=UTC:20251106T144000
DTEND;TZID=UTC:20251106T171000
DTSTAMP:20260421T211726
CREATED:20251029T163310Z
LAST-MODIFIED:20251029T163427Z
UID:10003180-1762440000-1762449000@debate.nyc
SUMMARY:Adolescent Literacy Program Practice (Queens)
DESCRIPTION:
URL:https://debate.nyc/event/adolescent-literacy-program-practice-queens-2/2025-11-06/
LOCATION:Corona Arts & Science Academy\, Corona Arts & Science Academy
END:VEVENT
END:VCALENDAR