BEGIN:VCALENDAR
VERSION:2.0
PRODID:-//DebateNyc - ECPv6.15.20//NONSGML v1.0//EN
CALSCALE:GREGORIAN
METHOD:PUBLISH
X-ORIGINAL-URL:https://debate.nyc
X-WR-CALDESC:Events for DebateNyc
REFRESH-INTERVAL;VALUE=DURATION:PT1H
X-Robots-Tag:noindex
X-PUBLISHED-TTL:PT1H
BEGIN:VTIMEZONE
TZID:UTC
BEGIN:STANDARD
TZOFFSETFROM:+0000
TZOFFSETTO:+0000
TZNAME:UTC
DTSTART:20240101T000000
END:STANDARD
END:VTIMEZONE
BEGIN:VEVENT
DTSTART;TZID=UTC:20251029T100000
DTEND;TZID=UTC:20251029T130000
DTSTAMP:20260421T212758
CREATED:20250918T175424Z
LAST-MODIFIED:20250918T175424Z
UID:10003028-1761732000-1761742800@debate.nyc
SUMMARY:District Middle School: Topic Research Trip
DESCRIPTION:
URL:https://debate.nyc/event/district-middle-school-topic-research-trip/
LOCATION:Queens County Farm Museum\, 73-50 Little Neck Pkwy\, Quenns\, New York\, 11004
END:VEVENT
BEGIN:VEVENT
DTSTART;TZID=UTC:20251029T180000
DTEND;TZID=UTC:20251029T190000
DTSTAMP:20260421T212758
CREATED:20250918T180611Z
LAST-MODIFIED:20250918T180611Z
UID:10003041-1761760800-1761764400@debate.nyc
SUMMARY:Dream Team Practice
DESCRIPTION:
URL:https://debate.nyc/event/dream-team-practice/2025-10-29/
LOCATION:Online\, Online
END:VEVENT
END:VCALENDAR