BEGIN:VCALENDAR
VERSION:2.0
PRODID:-//DebateNyc - ECPv6.15.20//NONSGML v1.0//EN
CALSCALE:GREGORIAN
METHOD:PUBLISH
X-WR-CALNAME:DebateNyc
X-ORIGINAL-URL:https://debate.nyc
X-WR-CALDESC:Events for DebateNyc
REFRESH-INTERVAL;VALUE=DURATION:PT1H
X-Robots-Tag:noindex
X-PUBLISHED-TTL:PT1H
BEGIN:VTIMEZONE
TZID:UTC
BEGIN:STANDARD
TZOFFSETFROM:+0000
TZOFFSETTO:+0000
TZNAME:UTC
DTSTART:20240101T000000
END:STANDARD
END:VTIMEZONE
BEGIN:VEVENT
DTSTART;TZID=UTC:20251028T100000
DTEND;TZID=UTC:20251028T130000
DTSTAMP:20260421T211650
CREATED:20250918T175341Z
LAST-MODIFIED:20250918T175341Z
UID:10003027-1761645600-1761656400@debate.nyc
SUMMARY:District Elementary School: Topic Research Trip
DESCRIPTION:
URL:https://debate.nyc/event/district-elementary-school-topic-research-trip/
LOCATION:Queens County Farm Museum\, 73-50 Little Neck Pkwy\, Quenns\, New York\, 11004
END:VEVENT
BEGIN:VEVENT
DTSTART;TZID=UTC:20251028T180000
DTEND;TZID=UTC:20251028T190000
DTSTAMP:20260421T211650
CREATED:20250929T215253Z
LAST-MODIFIED:20250929T215253Z
UID:10003115-1761674400-1761678000@debate.nyc
SUMMARY:NYC Reads PL
DESCRIPTION:
URL:https://debate.nyc/event/nyc-reads-pl/2025-10-28/
LOCATION:Online\, Online
END:VEVENT
END:VCALENDAR