BEGIN:VCALENDAR
VERSION:2.0
PRODID:-//DebateNyc - ECPv6.15.20//NONSGML v1.0//EN
CALSCALE:GREGORIAN
METHOD:PUBLISH
X-ORIGINAL-URL:https://debate.nyc
X-WR-CALDESC:Events for DebateNyc
REFRESH-INTERVAL;VALUE=DURATION:PT1H
X-Robots-Tag:noindex
X-PUBLISHED-TTL:PT1H
BEGIN:VTIMEZONE
TZID:UTC
BEGIN:STANDARD
TZOFFSETFROM:+0000
TZOFFSETTO:+0000
TZNAME:UTC
DTSTART:20240101T000000
END:STANDARD
END:VTIMEZONE
BEGIN:VEVENT
DTSTART;TZID=UTC:20251025T080000
DTEND;TZID=UTC:20251025T163000
DTSTAMP:20260422T011709
CREATED:20250812T082411Z
LAST-MODIFIED:20250917T171112Z
UID:10001830-1761379200-1761409800@debate.nyc
SUMMARY:Falling for Debate Workshop
DESCRIPTION:
URL:https://debate.nyc/event/falling-for-debate-workshop-tentative/
LOCATION:W.H.E.E.L.S (Washington Heights)\, 511 West 182 Street\, New York\, NY\, 10033\, United States
END:VEVENT
END:VCALENDAR