BEGIN:VCALENDAR
VERSION:2.0
PRODID:-//DebateNyc - ECPv6.15.20//NONSGML v1.0//EN
CALSCALE:GREGORIAN
METHOD:PUBLISH
X-WR-CALNAME:DebateNyc
X-ORIGINAL-URL:https://debate.nyc
X-WR-CALDESC:Events for DebateNyc
REFRESH-INTERVAL;VALUE=DURATION:PT1H
X-Robots-Tag:noindex
X-PUBLISHED-TTL:PT1H
BEGIN:VTIMEZONE
TZID:UTC
BEGIN:STANDARD
TZOFFSETFROM:+0000
TZOFFSETTO:+0000
TZNAME:UTC
DTSTART:20240101T000000
END:STANDARD
END:VTIMEZONE
BEGIN:VEVENT
DTSTART;TZID=UTC:20251022T173000
DTEND;TZID=UTC:20251022T183000
DTSTAMP:20260421T234507
CREATED:20250925T152809Z
LAST-MODIFIED:20250925T154346Z
UID:10003051-1761154200-1761157800@debate.nyc
SUMMARY:Falling for Debate Instructor Training
DESCRIPTION:
URL:https://debate.nyc/event/falling-for-debate-instructor-training/
LOCATION:Online\, Online
END:VEVENT
BEGIN:VEVENT
DTSTART;TZID=UTC:20251022T180000
DTEND;TZID=UTC:20251022T190000
DTSTAMP:20260421T234507
CREATED:20250918T180611Z
LAST-MODIFIED:20250918T180611Z
UID:10003040-1761156000-1761159600@debate.nyc
SUMMARY:Dream Team Practice
DESCRIPTION:
URL:https://debate.nyc/event/dream-team-practice/2025-10-22/
LOCATION:Online\, Online
END:VEVENT
END:VCALENDAR