BEGIN:VCALENDAR
VERSION:2.0
PRODID:-//DebateNyc - ECPv6.15.20//NONSGML v1.0//EN
CALSCALE:GREGORIAN
METHOD:PUBLISH
X-WR-CALNAME:DebateNyc
X-ORIGINAL-URL:https://debate.nyc
X-WR-CALDESC:Events for DebateNyc
REFRESH-INTERVAL;VALUE=DURATION:PT1H
X-Robots-Tag:noindex
X-PUBLISHED-TTL:PT1H
BEGIN:VTIMEZONE
TZID:UTC
BEGIN:STANDARD
TZOFFSETFROM:+0000
TZOFFSETTO:+0000
TZNAME:UTC
DTSTART:20240101T000000
END:STANDARD
END:VTIMEZONE
BEGIN:VEVENT
DTSTART;TZID=UTC:20251015T083000
DTEND;TZID=UTC:20251015T143000
DTSTAMP:20260421T223334
CREATED:20250925T152707Z
LAST-MODIFIED:20250925T152707Z
UID:10003050-1760517000-1760538600@debate.nyc
SUMMARY:HS Elective PL
DESCRIPTION:
URL:https://debate.nyc/event/hs-elective-pl/
LOCATION:NYCUDL Office (Manhattan)\, 25 Broaway\, New York\, NY\, 10004\, United States
END:VEVENT
BEGIN:VEVENT
DTSTART;TZID=UTC:20251015T150000
DTEND;TZID=UTC:20251015T163000
DTSTAMP:20260421T223334
CREATED:20250917T180553Z
LAST-MODIFIED:20250925T154239Z
UID:10001851-1760540400-1760545800@debate.nyc
SUMMARY:Level Up Workshop
DESCRIPTION:
URL:https://debate.nyc/event/nyc-reads-level-up-workshop/2025-10-15/
LOCATION:Online\, Online
END:VEVENT
BEGIN:VEVENT
DTSTART;TZID=UTC:20251015T180000
DTEND;TZID=UTC:20251015T190000
DTSTAMP:20260421T223334
CREATED:20250918T180611Z
LAST-MODIFIED:20250918T180611Z
UID:10003039-1760551200-1760554800@debate.nyc
SUMMARY:Dream Team Practice
DESCRIPTION:
URL:https://debate.nyc/event/dream-team-practice/2025-10-15/
LOCATION:Online\, Online
END:VEVENT
BEGIN:VEVENT
DTSTART;TZID=UTC:20251015T183000
DTEND;TZID=UTC:20251015T200000
DTSTAMP:20260421T223334
CREATED:20250918T175025Z
LAST-MODIFIED:20250918T175025Z
UID:10003026-1760553000-1760558400@debate.nyc
SUMMARY:NYCUDL Advisory Councils Meeting
DESCRIPTION:
URL:https://debate.nyc/event/nycudl-advisory-councils-meeting/
END:VEVENT
END:VCALENDAR