BEGIN:VCALENDAR
VERSION:2.0
PRODID:-//DebateNyc - ECPv6.15.20//NONSGML v1.0//EN
CALSCALE:GREGORIAN
METHOD:PUBLISH
X-WR-CALNAME:DebateNyc
X-ORIGINAL-URL:https://debate.nyc
X-WR-CALDESC:Events for DebateNyc
REFRESH-INTERVAL;VALUE=DURATION:PT1H
X-Robots-Tag:noindex
X-PUBLISHED-TTL:PT1H
BEGIN:VTIMEZONE
TZID:UTC
BEGIN:STANDARD
TZOFFSETFROM:+0000
TZOFFSETTO:+0000
TZNAME:UTC
DTSTART:20240101T000000
END:STANDARD
END:VTIMEZONE
BEGIN:VEVENT
DTSTART;TZID=UTC:20250406T080000
DTEND;TZID=UTC:20250406T170000
DTSTAMP:20260423T164603
CREATED:20250812T084005Z
LAST-MODIFIED:20251117T175206Z
UID:10001837-1743926400-1743958800@debate.nyc
SUMMARY:Championship Tournament
DESCRIPTION:
URL:https://debate.nyc/event/falling-for-debate-workshop/
LOCATION:N.Y.C. Lab School for Collaborative Studies\, 333 W 17th St\, New York\, NY\, 10011
CATEGORIES:Tournaments
END:VEVENT
END:VCALENDAR