BEGIN:VCALENDAR
VERSION:2.0
PRODID:-//DebateNyc - ECPv6.15.20//NONSGML v1.0//EN
CALSCALE:GREGORIAN
METHOD:PUBLISH
X-WR-CALNAME:DebateNyc
X-ORIGINAL-URL:https://debate.nyc
X-WR-CALDESC:Events for DebateNyc
REFRESH-INTERVAL;VALUE=DURATION:PT1H
X-Robots-Tag:noindex
X-PUBLISHED-TTL:PT1H
BEGIN:VTIMEZONE
TZID:UTC
BEGIN:STANDARD
TZOFFSETFROM:+0000
TZOFFSETTO:+0000
TZNAME:UTC
DTSTART:20240101T000000
END:STANDARD
END:VTIMEZONE
BEGIN:VEVENT
DTSTART;TZID=UTC:20251211T150000
DTEND;TZID=UTC:20251211T163000
DTSTAMP:20260421T154014
CREATED:20250917T180745Z
LAST-MODIFIED:20250917T182715Z
UID:10002587-1765465200-1765470600@debate.nyc
SUMMARY:NYC Reads Level Up Workshop
DESCRIPTION:
URL:https://debate.nyc/event/nyc-reads-level-up-workshop-3/2025-12-11/
LOCATION:Online\, Online
CATEGORIES:Home Page
END:VEVENT
BEGIN:VEVENT
DTSTART;TZID=UTC:20251210T150000
DTEND;TZID=UTC:20251210T163000
DTSTAMP:20260421T154014
CREATED:20250917T180745Z
LAST-MODIFIED:20250917T182715Z
UID:10002586-1765378800-1765384200@debate.nyc
SUMMARY:NYC Reads Level Up Workshop
DESCRIPTION:
URL:https://debate.nyc/event/nyc-reads-level-up-workshop-3/2025-12-10/
LOCATION:Online\, Online
CATEGORIES:Home Page
END:VEVENT
BEGIN:VEVENT
DTSTART;TZID=UTC:20251209T150000
DTEND;TZID=UTC:20251209T163000
DTSTAMP:20260421T154014
CREATED:20250917T180745Z
LAST-MODIFIED:20250917T182715Z
UID:10002585-1765292400-1765297800@debate.nyc
SUMMARY:NYC Reads Level Up Workshop
DESCRIPTION:
URL:https://debate.nyc/event/nyc-reads-level-up-workshop-3/2025-12-09/
LOCATION:Online\, Online
CATEGORIES:Home Page
END:VEVENT
BEGIN:VEVENT
DTSTART;TZID=UTC:20251125T163000
DTEND;TZID=UTC:20251125T173000
DTSTAMP:20260421T154014
CREATED:20251028T181046Z
LAST-MODIFIED:20251028T181046Z
UID:10003119-1764088200-1764091800@debate.nyc
SUMMARY:Multi-Language Learner PL
DESCRIPTION:
URL:https://debate.nyc/event/multi-language-learner-pl-2/2025-11-25/
LOCATION:Online\, Online
CATEGORIES:Home Page
END:VEVENT
BEGIN:VEVENT
DTSTART;TZID=UTC:20251118T163000
DTEND;TZID=UTC:20251118T173000
DTSTAMP:20260421T154014
CREATED:20251028T181046Z
LAST-MODIFIED:20251028T181046Z
UID:10003058-1763483400-1763487000@debate.nyc
SUMMARY:Multi-Language Learner PL
DESCRIPTION:
URL:https://debate.nyc/event/multi-language-learner-pl-2/2025-11-18/
LOCATION:Online\, Online
CATEGORIES:Home Page
END:VEVENT
BEGIN:VEVENT
DTSTART;TZID=UTC:20251115T083000
DTEND;TZID=UTC:20251115T170000
DTSTAMP:20260421T154014
CREATED:20250808T161156Z
LAST-MODIFIED:20251117T174149Z
UID:10001827-1763195400-1763226000@debate.nyc
SUMMARY:Open League Tournament #1
DESCRIPTION:
URL:https://debate.nyc/event/%f0%9f%8f%86-open-league-tournament-1/
LOCATION:Midwood High School (Brooklyn)\, Midwood High School\, 2839 Bedford Ave\, New York\, 11210
CATEGORIES:Home Page,Tournaments
END:VEVENT
BEGIN:VEVENT
DTSTART;TZID=UTC:20251021T080000
DTEND;TZID=UTC:20251021T170000
DTSTAMP:20260421T154014
CREATED:20250925T154117Z
LAST-MODIFIED:20251017T101210Z
UID:10003057-1761033600-1761066000@debate.nyc
SUMMARY:Multi-Language Learner PL
DESCRIPTION:
URL:https://debate.nyc/event/multi-language-learner-pl/2025-10-21/
LOCATION:Online\, Online
CATEGORIES:Home Page
END:VEVENT
BEGIN:VEVENT
DTSTART;TZID=UTC:20251014T080000
DTEND;TZID=UTC:20251014T170000
DTSTAMP:20260421T154014
CREATED:20250925T154117Z
LAST-MODIFIED:20251017T101210Z
UID:10003056-1760428800-1760461200@debate.nyc
SUMMARY:Multi-Language Learner PL
DESCRIPTION:
URL:https://debate.nyc/event/multi-language-learner-pl/2025-10-14/
LOCATION:Online\, Online
CATEGORIES:Home Page
END:VEVENT
END:VCALENDAR