BEGIN:VCALENDAR
VERSION:2.0
PRODID:-//DebateNyc - ECPv6.15.20//NONSGML v1.0//EN
CALSCALE:GREGORIAN
METHOD:PUBLISH
X-WR-CALNAME:DebateNyc
X-ORIGINAL-URL:https://debate.nyc
X-WR-CALDESC:Events for DebateNyc
REFRESH-INTERVAL;VALUE=DURATION:PT1H
X-Robots-Tag:noindex
X-PUBLISHED-TTL:PT1H
BEGIN:VTIMEZONE
TZID:UTC
BEGIN:STANDARD
TZOFFSETFROM:+0000
TZOFFSETTO:+0000
TZNAME:UTC
DTSTART:20250101T000000
END:STANDARD
END:VTIMEZONE
BEGIN:VEVENT
DTSTART;TZID=UTC:20260421T143000
DTEND;TZID=UTC:20260421T170000
DTSTAMP:20260421T111403
CREATED:20260323T183920Z
LAST-MODIFIED:20260327T145948Z
UID:10003402-1776781800-1776790800@debate.nyc
SUMMARY:Adolescent Literacy Program Practice (Queens)
DESCRIPTION:
URL:https://debate.nyc/event/adolescent-literacy-program-practice-brooklyn-3/2026-04-21/
LOCATION:Corona Arts & Science Academy\, Corona Arts & Science Academy
END:VEVENT
BEGIN:VEVENT
DTSTART;TZID=UTC:20260421T150000
DTEND;TZID=UTC:20260421T170000
DTSTAMP:20260421T111403
CREATED:20260327T151858Z
LAST-MODIFIED:20260327T151858Z
UID:10003426-1776783600-1776790800@debate.nyc
SUMMARY:Debate and Graduate Professional Learning
DESCRIPTION:
URL:https://debate.nyc/event/debate-and-graduate-professional-learning/
LOCATION:Online\, Online
END:VEVENT
END:VCALENDAR