BEGIN:VCALENDAR
VERSION:2.0
PRODID:-//DebateNyc - ECPv6.15.20//NONSGML v1.0//EN
CALSCALE:GREGORIAN
METHOD:PUBLISH
X-WR-CALNAME:DebateNyc
X-ORIGINAL-URL:https://debate.nyc
X-WR-CALDESC:Events for DebateNyc
REFRESH-INTERVAL;VALUE=DURATION:PT1H
X-Robots-Tag:noindex
X-PUBLISHED-TTL:PT1H
BEGIN:VTIMEZONE
TZID:UTC
BEGIN:STANDARD
TZOFFSETFROM:+0000
TZOFFSETTO:+0000
TZNAME:UTC
DTSTART:20240101T000000
END:STANDARD
END:VTIMEZONE
BEGIN:VEVENT
DTSTART;TZID=UTC:20251122T083000
DTEND;TZID=UTC:20251122T160000
DTSTAMP:20260421T181810
CREATED:20250819T053352Z
LAST-MODIFIED:20251120T021652Z
UID:10001841-1763800200-1763827200@debate.nyc
SUMMARY:NYC Reads Tournament #1
DESCRIPTION:
URL:https://debate.nyc/event/d13-elem-school/
LOCATION:MS 210—Elizabeth Blackwell (Queens)\, 93-11 101st Street\, Ozone Park\, NY\, 11416
END:VEVENT
END:VCALENDAR