BEGIN:VCALENDAR
VERSION:2.0
PRODID:-//DebateNyc - ECPv6.15.20//NONSGML v1.0//EN
CALSCALE:GREGORIAN
METHOD:PUBLISH
X-WR-CALNAME:DebateNyc
X-ORIGINAL-URL:https://debate.nyc
X-WR-CALDESC:Events for DebateNyc
REFRESH-INTERVAL;VALUE=DURATION:PT1H
X-Robots-Tag:noindex
X-PUBLISHED-TTL:PT1H
BEGIN:VTIMEZONE
TZID:UTC
BEGIN:STANDARD
TZOFFSETFROM:+0000
TZOFFSETTO:+0000
TZNAME:UTC
DTSTART:20240101T000000
END:STANDARD
END:VTIMEZONE
BEGIN:VEVENT
DTSTART;TZID=UTC:20251113T143000
DTEND;TZID=UTC:20251113T170000
DTSTAMP:20260421T194534
CREATED:20251029T164311Z
LAST-MODIFIED:20251029T164311Z
UID:10003245-1763044200-1763053200@debate.nyc
SUMMARY:Adolescent Literacy Program Practice (Brooklyn)
DESCRIPTION:
URL:https://debate.nyc/event/adolescent-literacy-program-practice-brooklyn-2/2025-11-13/
LOCATION:MS 61\, 400 Empire Boulevard\, Brooklyn\, New York\, 11225
END:VEVENT
BEGIN:VEVENT
DTSTART;TZID=UTC:20251113T144000
DTEND;TZID=UTC:20251113T171000
DTSTAMP:20260421T194534
CREATED:20251029T163310Z
LAST-MODIFIED:20251029T163427Z
UID:10003181-1763044800-1763053800@debate.nyc
SUMMARY:Adolescent Literacy Program Practice (Queens)
DESCRIPTION:
URL:https://debate.nyc/event/adolescent-literacy-program-practice-queens-2/2025-11-13/
LOCATION:Corona Arts & Science Academy\, Corona Arts & Science Academy
END:VEVENT
END:VCALENDAR