BEGIN:VCALENDAR
VERSION:2.0
PRODID:-//DebateNyc - ECPv6.15.20//NONSGML v1.0//EN
CALSCALE:GREGORIAN
METHOD:PUBLISH
X-WR-CALNAME:DebateNyc
X-ORIGINAL-URL:https://debate.nyc
X-WR-CALDESC:Events for DebateNyc
REFRESH-INTERVAL;VALUE=DURATION:PT1H
X-Robots-Tag:noindex
X-PUBLISHED-TTL:PT1H
BEGIN:VTIMEZONE
TZID:UTC
BEGIN:STANDARD
TZOFFSETFROM:+0000
TZOFFSETTO:+0000
TZNAME:UTC
DTSTART:20240101T000000
END:STANDARD
END:VTIMEZONE
BEGIN:VEVENT
DTSTART;TZID=UTC:20251104T144000
DTEND;TZID=UTC:20251104T171000
DTSTAMP:20260421T221230
CREATED:20251029T151757Z
LAST-MODIFIED:20251029T151935Z
UID:10003120-1762267200-1762276200@debate.nyc
SUMMARY:Adolescent Literacy Program Practice (Queens)
DESCRIPTION:
URL:https://debate.nyc/event/adolescent-literacy-program-practice-queens/2025-11-04/
LOCATION:Corona Arts & Science Academy\, Corona Arts & Science Academy
END:VEVENT
BEGIN:VEVENT
DTSTART;TZID=UTC:20251104T180000
DTEND;TZID=UTC:20251104T190000
DTSTAMP:20260421T221230
CREATED:20250925T153715Z
LAST-MODIFIED:20250925T153838Z
UID:10003054-1762279200-1762282800@debate.nyc
SUMMARY:Open League PL
DESCRIPTION:
URL:https://debate.nyc/event/open-league-pl/2025-11-04/
LOCATION:Online\, Online
END:VEVENT
BEGIN:VEVENT
DTSTART;TZID=UTC:20251104T180000
DTEND;TZID=UTC:20251104T190000
DTSTAMP:20260421T221230
CREATED:20250929T215253Z
LAST-MODIFIED:20250929T215253Z
UID:10003116-1762279200-1762282800@debate.nyc
SUMMARY:NYC Reads PL
DESCRIPTION:
URL:https://debate.nyc/event/nyc-reads-pl/2025-11-04/
LOCATION:Online\, Online
END:VEVENT
END:VCALENDAR