BEGIN:VCALENDAR
VERSION:2.0
PRODID:-//DebateNyc - ECPv6.15.20//NONSGML v1.0//EN
CALSCALE:GREGORIAN
METHOD:PUBLISH
X-WR-CALNAME:DebateNyc
X-ORIGINAL-URL:https://debate.nyc
X-WR-CALDESC:Events for DebateNyc
REFRESH-INTERVAL;VALUE=DURATION:PT1H
X-Robots-Tag:noindex
X-PUBLISHED-TTL:PT1H
BEGIN:VTIMEZONE
TZID:UTC
BEGIN:STANDARD
TZOFFSETFROM:+0000
TZOFFSETTO:+0000
TZNAME:UTC
DTSTART:20240101T000000
END:STANDARD
END:VTIMEZONE
BEGIN:VEVENT
DTSTART;TZID=UTC:20251014T080000
DTEND;TZID=UTC:20251014T170000
DTSTAMP:20260421T211307
CREATED:20250925T154117Z
LAST-MODIFIED:20251017T101210Z
UID:10003056-1760428800-1760461200@debate.nyc
SUMMARY:Multi-Language Learner PL
DESCRIPTION:
URL:https://debate.nyc/event/multi-language-learner-pl/2025-10-14/
LOCATION:Online\, Online
CATEGORIES:Home Page
END:VEVENT
BEGIN:VEVENT
DTSTART;TZID=UTC:20251014T150000
DTEND;TZID=UTC:20251014T163000
DTSTAMP:20260421T211307
CREATED:20250917T180553Z
LAST-MODIFIED:20250925T154239Z
UID:10001850-1760454000-1760459400@debate.nyc
SUMMARY:Level Up Workshop
DESCRIPTION:
URL:https://debate.nyc/event/nyc-reads-level-up-workshop/2025-10-14/
LOCATION:Online\, Online
END:VEVENT
BEGIN:VEVENT
DTSTART;TZID=UTC:20251014T153000
DTEND;TZID=UTC:20251014T163000
DTSTAMP:20260421T211307
CREATED:20250917T181844Z
LAST-MODIFIED:20250925T153228Z
UID:10002956-1760455800-1760459400@debate.nyc
SUMMARY:Districts PL
DESCRIPTION:
URL:https://debate.nyc/event/district-coach-professional-learning/2025-10-14/
LOCATION:Online\, Online
END:VEVENT
BEGIN:VEVENT
DTSTART;TZID=UTC:20251014T180000
DTEND;TZID=UTC:20251014T190000
DTSTAMP:20260421T211307
CREATED:20250925T153715Z
LAST-MODIFIED:20250925T153838Z
UID:10003052-1760464800-1760468400@debate.nyc
SUMMARY:Open League PL
DESCRIPTION:
URL:https://debate.nyc/event/open-league-pl/2025-10-14/
LOCATION:Online\, Online
END:VEVENT
BEGIN:VEVENT
DTSTART;TZID=UTC:20251014T180000
DTEND;TZID=UTC:20251014T190000
DTSTAMP:20260421T211307
CREATED:20250929T215253Z
LAST-MODIFIED:20250929T215253Z
UID:10003113-1760464800-1760468400@debate.nyc
SUMMARY:NYC Reads PL
DESCRIPTION:
URL:https://debate.nyc/event/nyc-reads-pl/2025-10-14/
LOCATION:Online\, Online
END:VEVENT
END:VCALENDAR