BEGIN:VCALENDAR
VERSION:2.0
PRODID:-//DebateNyc - ECPv6.15.20//NONSGML v1.0//EN
CALSCALE:GREGORIAN
METHOD:PUBLISH
X-WR-CALNAME:DebateNyc
X-ORIGINAL-URL:https://debate.nyc
X-WR-CALDESC:Events for DebateNyc
REFRESH-INTERVAL;VALUE=DURATION:PT1H
X-Robots-Tag:noindex
X-PUBLISHED-TTL:PT1H
BEGIN:VTIMEZONE
TZID:UTC
BEGIN:STANDARD
TZOFFSETFROM:+0000
TZOFFSETTO:+0000
TZNAME:UTC
DTSTART:20240101T000000
END:STANDARD
END:VTIMEZONE
BEGIN:VEVENT
DTSTART;TZID=UTC:20251008T144000
DTEND;TZID=UTC:20251008T171000
DTSTAMP:20260421T194453
CREATED:20250925T152442Z
LAST-MODIFIED:20250925T152442Z
UID:10003049-1759934400-1759943400@debate.nyc
SUMMARY:Adult Literacy Program Launch (Brooklyn)
DESCRIPTION:
URL:https://debate.nyc/event/adult-literacy-program-launch-brooklyn-2/
LOCATION:MS 61\, 400 Empire Boulevard\, Brooklyn\, New York\, 11225
END:VEVENT
BEGIN:VEVENT
DTSTART;TZID=UTC:20251008T180000
DTEND;TZID=UTC:20251008T190000
DTSTAMP:20260421T194453
CREATED:20250918T180611Z
LAST-MODIFIED:20250918T180611Z
UID:10003038-1759946400-1759950000@debate.nyc
SUMMARY:Dream Team Practice
DESCRIPTION:
URL:https://debate.nyc/event/dream-team-practice/2025-10-08/
LOCATION:Online\, Online
END:VEVENT
BEGIN:VEVENT
DTSTART;TZID=UTC:20251008T183000
DTEND;TZID=UTC:20251008T203000
DTSTAMP:20260421T194453
CREATED:20250918T174919Z
LAST-MODIFIED:20250918T174919Z
UID:10003025-1759948200-1759955400@debate.nyc
SUMMARY:NYCUDL Board Meeting
DESCRIPTION:
URL:https://debate.nyc/event/nycudl-board-meeting/
END:VEVENT
END:VCALENDAR