BEGIN:VCALENDAR
VERSION:2.0
PRODID:-//DebateNyc - ECPv6.15.20//NONSGML v1.0//EN
CALSCALE:GREGORIAN
METHOD:PUBLISH
X-ORIGINAL-URL:https://debate.nyc
X-WR-CALDESC:Events for DebateNyc
REFRESH-INTERVAL;VALUE=DURATION:PT1H
X-Robots-Tag:noindex
X-PUBLISHED-TTL:PT1H
BEGIN:VTIMEZONE
TZID:UTC
BEGIN:STANDARD
TZOFFSETFROM:+0000
TZOFFSETTO:+0000
TZNAME:UTC
DTSTART:20240101T000000
END:STANDARD
END:VTIMEZONE
BEGIN:VEVENT
DTSTART;TZID=UTC:20250929T154500
DTEND;TZID=UTC:20250929T164500
DTSTAMP:20260421T194548
CREATED:20250918T174155Z
LAST-MODIFIED:20250918T174155Z
UID:10003021-1759160700-1759164300@debate.nyc
SUMMARY:NYC Reads Coach Kickoff
DESCRIPTION:
URL:https://debate.nyc/event/nyc-reads-coach-kickoff/
LOCATION:Online\, Online
END:VEVENT
END:VCALENDAR