BEGIN:VCALENDAR
VERSION:2.0
PRODID:-//DebateNyc - ECPv6.15.20//NONSGML v1.0//EN
CALSCALE:GREGORIAN
METHOD:PUBLISH
X-ORIGINAL-URL:https://debate.nyc
X-WR-CALDESC:Events for DebateNyc
REFRESH-INTERVAL;VALUE=DURATION:PT1H
X-Robots-Tag:noindex
X-PUBLISHED-TTL:PT1H
BEGIN:VTIMEZONE
TZID:UTC
BEGIN:STANDARD
TZOFFSETFROM:+0000
TZOFFSETTO:+0000
TZNAME:UTC
DTSTART:20240101T000000
END:STANDARD
END:VTIMEZONE
BEGIN:VEVENT
DTSTART;TZID=UTC:20250918T143000
DTEND;TZID=UTC:20250918T170000
DTSTAMP:20260421T211440
CREATED:20250918T174801Z
LAST-MODIFIED:20250918T174801Z
UID:10003024-1758205800-1758214800@debate.nyc
SUMMARY:Adult Literacy Program Launch (Brooklyn)
DESCRIPTION:
URL:https://debate.nyc/event/adult-literacy-program-launch-brooklyn/
LOCATION:MS 61\, 400 Empire Boulevard\, Brooklyn\, New York\, 11225
END:VEVENT
END:VCALENDAR